BEGIN:VCALENDAR
VERSION:2.0
PRODID:-//Oak Hill Chapel - ECPv6.15.17.1//NONSGML v1.0//EN
CALSCALE:GREGORIAN
METHOD:PUBLISH
X-WR-CALNAME:Oak Hill Chapel
X-ORIGINAL-URL:https://oakhillchapel.com
X-WR-CALDESC:Events for Oak Hill Chapel
REFRESH-INTERVAL;VALUE=DURATION:PT1H
X-Robots-Tag:noindex
X-PUBLISHED-TTL:PT1H
BEGIN:VTIMEZONE
TZID:UTC
BEGIN:STANDARD
TZOFFSETFROM:+0000
TZOFFSETTO:+0000
TZNAME:UTC
DTSTART:20160101T000000
END:STANDARD
END:VTIMEZONE
BEGIN:VEVENT
DTSTART;VALUE=DATE:20171123
DTEND;VALUE=DATE:20171124
DTSTAMP:20260424T055401
CREATED:20171118T191116Z
LAST-MODIFIED:20171118T203234Z
UID:970-1511395200-1511481599@oakhillchapel.com
SUMMARY:Thanksgiving Day 2017
DESCRIPTION:“Praise the LORD \, O my soul;\nall my inmost being\, praise His holy name.\nPraise the LORD \, O my soul\,\nand forget not all His benefits—\nwho forgives all your sins\nand heals all your diseases\,\nwho redeems your life from the pit\nand crowns you with love and compassion\,\nwho satisfies your desires with good things\nso that your youth is renewed like the eagle’s.” (Psalm 103:1-5) \nPraise You\, God! You are holy! Thank you for giving us this day to remember all of the ways You show Your love to us! \n 
URL:https://oakhillchapel.com/event/thanksgiving-day-2017/
CATEGORIES:Holiday
END:VEVENT
END:VCALENDAR